BEGIN:VCALENDAR
CALSCALE:GREGORIAN
PRODID:-//Ben Fortuna//iCal4j 1.0//EN
VERSION:2.0
BEGIN:VEVENT
DTSTAMP:20260125T060512Z
DTSTART:20260127T000000
DTEND:20260127T020000
SUMMARY:Adjourn\n\n" - Room 8
TZID:America/New_York
UID:20260125T060515Z-uidGen@richgoldman-357e73
END:VEVENT
BEGIN:VALARM
TRIGGER:-PT15M
ACTION:DISPLAY
DESCRIPTION:Adjourn\n\n" - Room 8
END:VALARM
END:VCALENDAR
