BEGIN:VCALENDAR
CALSCALE:GREGORIAN
PRODID:-//Ben Fortuna//iCal4j 1.0//EN
VERSION:2.0
BEGIN:VEVENT
DTSTAMP:20260125T060512Z
DTSTART:20260127T090000
DTEND:20260127T110000
SUMMARY:H. 757 - An act relating to manufactured homes and limited equity
  cooperatives\n\nWalkthrough\n\nCameron Wood\, Legislative Counsel\, Off
 ice of Legislative Counsel - Room 31
TZID:America/New_York
UID:20260125T060519Z-uidGen@richgoldman-357e73
END:VEVENT
BEGIN:VALARM
TRIGGER:-PT15M
ACTION:DISPLAY
DESCRIPTION:H. 757 - An act relating to manufactured homes and limited eq
 uity cooperatives\n\nWalkthrough\n\nCameron Wood\, Legislative Counsel\,
  Office of Legislative Counsel - Room 31
END:VALARM
END:VCALENDAR
