BEGIN:VCALENDAR
CALSCALE:GREGORIAN
PRODID:-//Ben Fortuna//iCal4j 1.0//EN
VERSION:2.0
BEGIN:VEVENT
DTSTAMP:20260127T150030Z
DTSTART:20260127T091000
DTEND:20260127T111000
SUMMARY:H. 205 - An act relating to agreements not to compete\n\nStrike-a
 ll Bill Incorporating H. 334 Walk-through\n\nSophie Zdatny\, Legislative
  Counsel\, Office of Legislative Counsel - Room 35
TZID:America/New_York
UID:20260127T150030Z-uidGen@richgoldman-357e73
END:VEVENT
BEGIN:VALARM
TRIGGER:-PT15M
ACTION:DISPLAY
DESCRIPTION:H. 205 - An act relating to agreements not to compete\n\nStri
 ke-all Bill Incorporating H. 334 Walk-through\n\nSophie Zdatny\, Legisla
 tive Counsel\, Office of Legislative Counsel - Room 35
END:VALARM
END:VCALENDAR
