BEGIN:VCALENDAR
CALSCALE:GREGORIAN
PRODID:-//Ben Fortuna//iCal4j 1.0//EN
VERSION:2.0
BEGIN:VEVENT
DTSTAMP:20260127T230012Z
DTSTART:20260127T093100
DTEND:20260127T113100
SUMMARY:UVM Extension\n\nUpdate\n\nHeather Darby\, Associate Professor\, 
 UVM Extension - Room 28
TZID:America/New_York
UID:20260127T230012Z-uidGen@richgoldman-357e73
END:VEVENT
BEGIN:VALARM
TRIGGER:-PT15M
ACTION:DISPLAY
DESCRIPTION:UVM Extension\n\nUpdate\n\nHeather Darby\, Associate Professo
 r\, UVM Extension - Room 28
END:VALARM
END:VCALENDAR
