BEGIN:VCALENDAR
CALSCALE:GREGORIAN
PRODID:-//Ben Fortuna//iCal4j 1.0//EN
VERSION:2.0
BEGIN:VEVENT
DTSTAMP:20260125T060512Z
DTSTART:20260127T093000
DTEND:20260127T113000
SUMMARY:Senate Floor - Room 3
TZID:America/New_York
UID:20260125T060534Z-uidGen@richgoldman-357e73
END:VEVENT
BEGIN:VALARM
TRIGGER:-PT15M
ACTION:DISPLAY
DESCRIPTION:Senate Floor - Room 3
END:VALARM
END:VCALENDAR
