BEGIN:VCALENDAR
CALSCALE:GREGORIAN
PRODID:-//Ben Fortuna//iCal4j 1.0//EN
VERSION:2.0
BEGIN:VEVENT
DTSTAMP:20260125T060512Z
DTSTART:20260127T100100
DTEND:20260127T120100
SUMMARY:Caucuses and Lunch - Room 45
TZID:America/New_York
UID:20260125T060622Z-uidGen@richgoldman-357e73
END:VEVENT
BEGIN:VALARM
TRIGGER:-PT15M
ACTION:DISPLAY
DESCRIPTION:Caucuses and Lunch - Room 45
END:VALARM
END:VCALENDAR
