BEGIN:VCALENDAR
CALSCALE:GREGORIAN
PRODID:-//Ben Fortuna//iCal4j 1.0//EN
VERSION:2.0
BEGIN:VEVENT
DTSTAMP:20260125T060512Z
DTSTART:20260127T100000
DTEND:20260127T120000
SUMMARY:26-0743 - An act relating to miscellaneous amendments to laws rel
 ating to motor vehicles\n\nWalk-through\n\nAndrew Collier\, Commissioner
 \, Department of Motor Vehicles\n\nMatthew Rousseau\, Deputy Commissione
 r\, Department of Motor Vehicles - Room 3
TZID:America/New_York
UID:20260125T060615Z-uidGen@richgoldman-357e73
END:VEVENT
BEGIN:VALARM
TRIGGER:-PT15M
ACTION:DISPLAY
DESCRIPTION:26-0743 - An act relating to miscellaneous amendments to laws
  relating to motor vehicles\n\nWalk-through\n\nAndrew Collier\, Commissi
 oner\, Department of Motor Vehicles\n\nMatthew Rousseau\, Deputy Commiss
 ioner\, Department of Motor Vehicles - Room 3
END:VALARM
END:VCALENDAR
