BEGIN:VCALENDAR
CALSCALE:GREGORIAN
PRODID:-//Ben Fortuna//iCal4j 1.0//EN
VERSION:2.0
BEGIN:VEVENT
DTSTAMP:20260125T060512Z
DTSTART:20260127T100000
DTEND:20260127T120000
SUMMARY:Food Security\n\nDepartment of Fish and Wildlife\n\nJason Batchel
 der\, Commissioner\, Department of Fish and Wildlife\n\nCharles Martin\,
  Deputy Secretary\, Agency of Natural Resources - Room 17
TZID:America/New_York
UID:20260125T060610Z-uidGen@richgoldman-357e73
END:VEVENT
BEGIN:VALARM
TRIGGER:-PT15M
ACTION:DISPLAY
DESCRIPTION:Food Security\n\nDepartment of Fish and Wildlife\n\nJason Bat
 chelder\, Commissioner\, Department of Fish and Wildlife\n\nCharles Mart
 in\, Deputy Secretary\, Agency of Natural Resources - Room 17
END:VALARM
END:VCALENDAR
