BEGIN:VCALENDAR
CALSCALE:GREGORIAN
PRODID:-//Ben Fortuna//iCal4j 1.0//EN
VERSION:2.0
BEGIN:VEVENT
DTSTAMP:20260125T060512Z
DTSTART:20260127T100100
DTEND:20260127T120100
SUMMARY:Lunch and Caucuses - Room 34
TZID:America/New_York
UID:20260125T060616Z-uidGen@richgoldman-357e73
END:VEVENT
BEGIN:VALARM
TRIGGER:-PT15M
ACTION:DISPLAY
DESCRIPTION:Lunch and Caucuses - Room 34
END:VALARM
END:VCALENDAR
