BEGIN:VCALENDAR
CALSCALE:GREGORIAN
PRODID:-//Ben Fortuna//iCal4j 1.0//EN
VERSION:2.0
BEGIN:VEVENT
DTSTAMP:20260125T060512Z
DTSTART:20260127T101500
DTEND:20260127T121500
SUMMARY:S. 163 - An act relating to the role of advanced practice registe
 red nurses in hospital care\n\nJennifer Carbee\, Deputy Chief Counsel\, 
 Office of Legislative Counsel\n\nDevon Green\, Senior Vice President of 
 Policy and Strategy\, Vermont Association of Hospitals and Health System
 s - Invited\n\nMichelle Wade\, APRN\, Nurse Practitioner\, Vermont Nurse
  Practitioners Association\n\nLaurie Foster\, Legislative Liaison\, Verm
 ont Affiliate of the American College of Nurse-midwives - Room 17
TZID:America/New_York
UID:20260125T060624Z-uidGen@richgoldman-357e73
END:VEVENT
BEGIN:VALARM
TRIGGER:-PT15M
ACTION:DISPLAY
DESCRIPTION:S. 163 - An act relating to the role of advanced practice reg
 istered nurses in hospital care\n\nJennifer Carbee\, Deputy Chief Counse
 l\, Office of Legislative Counsel\n\nDevon Green\, Senior Vice President
  of Policy and Strategy\, Vermont Association of Hospitals and Health Sy
 stems - Invited\n\nMichelle Wade\, APRN\, Nurse Practitioner\, Vermont N
 urse Practitioners Association\n\nLaurie Foster\, Legislative Liaison\, 
 Vermont Affiliate of the American College of Nurse-midwives - Room 17
END:VALARM
END:VCALENDAR
