BEGIN:VCALENDAR
CALSCALE:GREGORIAN
PRODID:-//Ben Fortuna//iCal4j 1.0//EN
VERSION:2.0
BEGIN:VEVENT
DTSTAMP:20260127T180014Z
DTSTART:20260127T103000
DTEND:20260127T123000
SUMMARY:S. 163 - An act relating to the role of advanced practice registe
 red nurses in hospital care\n\nJennifer Carbee\, Deputy Chief Counsel\, 
 Office of Legislative Counsel\n\nMichelle Wade\, APRN\, Nurse Practition
 er\, Vermont Nurse Practitioners Association\n\nJade Kaplan\, Certified 
 Nurse-Midwife\, American College of Nurse Midwifery\n\nDevon Green\, Sen
 ior Vice President of Policy and Strategy\, Vermont Association of Hospi
 tals and Health Systems\n\nM.D. Jessa Barnard\, Executive Director\, Ver
 mont Medical Society - Room 17
TZID:America/New_York
UID:20260127T180014Z-uidGen@richgoldman-357e73
END:VEVENT
BEGIN:VALARM
TRIGGER:-PT15M
ACTION:DISPLAY
DESCRIPTION:S. 163 - An act relating to the role of advanced practice reg
 istered nurses in hospital care\n\nJennifer Carbee\, Deputy Chief Counse
 l\, Office of Legislative Counsel\n\nMichelle Wade\, APRN\, Nurse Practi
 tioner\, Vermont Nurse Practitioners Association\n\nJade Kaplan\, Certif
 ied Nurse-Midwife\, American College of Nurse Midwifery\n\nDevon Green\,
  Senior Vice President of Policy and Strategy\, Vermont Association of H
 ospitals and Health Systems\n\nM.D. Jessa Barnard\, Executive Director\,
  Vermont Medical Society - Room 17
END:VALARM
END:VCALENDAR
