BEGIN:VCALENDAR
CALSCALE:GREGORIAN
PRODID:-//Ben Fortuna//iCal4j 1.0//EN
VERSION:2.0
BEGIN:VEVENT
DTSTAMP:20260125T060512Z
DTSTART:20260127T110000
DTEND:20260127T130000
SUMMARY:Agency of Transportation FY27 Budget\n\nBridge Program Budget\n\n
 Jennifer Fitch\, Project Directory Bureau Director\, Agency of Transport
 ation\n\nJim Lacroix\, Structures Program Manager\, Agency of Transporta
 tion - Room 43
TZID:America/New_York
UID:20260125T060638Z-uidGen@richgoldman-357e73
END:VEVENT
BEGIN:VALARM
TRIGGER:-PT15M
ACTION:DISPLAY
DESCRIPTION:Agency of Transportation FY27 Budget\n\nBridge Program Budget
 \n\nJennifer Fitch\, Project Directory Bureau Director\, Agency of Trans
 portation\n\nJim Lacroix\, Structures Program Manager\, Agency of Transp
 ortation - Room 43
END:VALARM
END:VCALENDAR
