BEGIN:VCALENDAR
CALSCALE:GREGORIAN
PRODID:-//Ben Fortuna//iCal4j 1.0//EN
VERSION:2.0
BEGIN:VEVENT
DTSTAMP:20260125T060512Z
DTSTART:20260127T110000
DTEND:20260127T130000
SUMMARY:Miscellaneous Agriculture Bill\n\nBradley Showman\, Legislative C
 ounsel\, Office of Legislative Counsel\n\nKirby Keeton\, Legislative Cou
 nsel\, Office of Legislative Counsel (11:30 AM)\n\nKatie McLinn\, Legisl
 ative Counsel\, Office of Legislative Counsel (11:45 AM) - Room 28
TZID:America/New_York
UID:20260125T060640Z-uidGen@richgoldman-357e73
END:VEVENT
BEGIN:VALARM
TRIGGER:-PT15M
ACTION:DISPLAY
DESCRIPTION:Miscellaneous Agriculture Bill\n\nBradley Showman\, Legislati
 ve Counsel\, Office of Legislative Counsel\n\nKirby Keeton\, Legislative
  Counsel\, Office of Legislative Counsel (11:30 AM)\n\nKatie McLinn\, Le
 gislative Counsel\, Office of Legislative Counsel (11:45 AM) - Room 28
END:VALARM
END:VCALENDAR
