BEGIN:VCALENDAR
CALSCALE:GREGORIAN
PRODID:-//Ben Fortuna//iCal4j 1.0//EN
VERSION:2.0
BEGIN:VEVENT
DTSTAMP:20260127T160015Z
DTSTART:20260127T110000
DTEND:20260127T130000
SUMMARY:26-0553 - An act relating to miscellaneous agricultural subjects\
 n\nBradley Showman\, Legislative Counsel\, Office of Legislative Counsel
 \n\nKirby Keeton\, Legislative Counsel\, Office of Legislative Counsel (
 11:30 AM)\n\nKatie McLinn\, Legislative Counsel\, Office of Legislative 
 Counsel (11:45 AM) - Room 28
TZID:America/New_York
UID:20260127T160030Z-uidGen@richgoldman-357e73
END:VEVENT
BEGIN:VALARM
TRIGGER:-PT15M
ACTION:DISPLAY
DESCRIPTION:26-0553 - An act relating to miscellaneous agricultural subje
 cts\n\nBradley Showman\, Legislative Counsel\, Office of Legislative Cou
 nsel\n\nKirby Keeton\, Legislative Counsel\, Office of Legislative Couns
 el (11:30 AM)\n\nKatie McLinn\, Legislative Counsel\, Office of Legislat
 ive Counsel (11:45 AM) - Room 28
END:VALARM
END:VCALENDAR
