BEGIN:VCALENDAR
CALSCALE:GREGORIAN
PRODID:-//Ben Fortuna//iCal4j 1.0//EN
VERSION:2.0
BEGIN:VEVENT
DTSTAMP:20260125T060512Z
DTSTART:20260127T110000
DTEND:20260127T130000
SUMMARY:26-0743 - An act relating to miscellaneous amendments to laws rel
 ating to motor vehicles\n\nFiscal impacts overall\n\nLogan Mooberry\, Fi
 scal Analyst\, Joint Fiscal Office - Room 3
TZID:America/New_York
UID:20260125T060646Z-uidGen@richgoldman-357e73
END:VEVENT
BEGIN:VALARM
TRIGGER:-PT15M
ACTION:DISPLAY
DESCRIPTION:26-0743 - An act relating to miscellaneous amendments to laws
  relating to motor vehicles\n\nFiscal impacts overall\n\nLogan Mooberry\
 , Fiscal Analyst\, Joint Fiscal Office - Room 3
END:VALARM
END:VCALENDAR
