BEGIN:VCALENDAR
CALSCALE:GREGORIAN
PRODID:-//Ben Fortuna//iCal4j 1.0//EN
VERSION:2.0
BEGIN:VEVENT
DTSTAMP:20260127T170014Z
DTSTART:20260127T113000
DTEND:20260127T133000
SUMMARY:26-0743 - An act relating to miscellaneous amendments to laws rel
 ating to motor vehicles\n\nSection 16\n\nMatt Cota\, Managing Director\,
  Vermont Vehicle and Automotive Distributors Association\n\nBill Smith\,
  Lobbyist\, Vermont Truck and Bus Association and the Vermont Retail Lum
 ber Dealers Association\n\nAndrew Collier\, Commissioner\, Department of
  Motor Vehicles - Room 3
TZID:America/New_York
UID:20260127T170026Z-uidGen@richgoldman-357e73
END:VEVENT
BEGIN:VALARM
TRIGGER:-PT15M
ACTION:DISPLAY
DESCRIPTION:26-0743 - An act relating to miscellaneous amendments to laws
  relating to motor vehicles\n\nSection 16\n\nMatt Cota\, Managing Direct
 or\, Vermont Vehicle and Automotive Distributors Association\n\nBill Smi
 th\, Lobbyist\, Vermont Truck and Bus Association and the Vermont Retail
  Lumber Dealers Association\n\nAndrew Collier\, Commissioner\, Departmen
 t of Motor Vehicles - Room 3
END:VALARM
END:VCALENDAR
