BEGIN:VCALENDAR
CALSCALE:GREGORIAN
PRODID:-//Ben Fortuna//iCal4j 1.0//EN
VERSION:2.0
BEGIN:VEVENT
DTSTAMP:20260125T060512Z
DTSTART:20260127T130000
DTEND:20260127T150000
SUMMARY:Department of Public Service\, Connectivity Division Annual Repor
 t and Overview\n\nHunter Thompson\, Telecommunications and Connectivity 
 Director\, Department of Public Service - Room 32
TZID:America/New_York
UID:20260125T060724Z-uidGen@richgoldman-357e73
END:VEVENT
BEGIN:VALARM
TRIGGER:-PT15M
ACTION:DISPLAY
DESCRIPTION:Department of Public Service\, Connectivity Division Annual R
 eport and Overview\n\nHunter Thompson\, Telecommunications and Connectiv
 ity Director\, Department of Public Service - Room 32
END:VALARM
END:VCALENDAR
